BEGIN:VCALENDAR
VERSION:2.0
PRODID:-//Essendon Historical Society - ECPv6.2.0.1//NONSGML v1.0//EN
CALSCALE:GREGORIAN
METHOD:PUBLISH
X-ORIGINAL-URL:https://esshissoc.org.au
X-WR-CALDESC:Events for Essendon Historical Society
REFRESH-INTERVAL;VALUE=DURATION:PT1H
X-Robots-Tag:noindex
X-PUBLISHED-TTL:PT1H
BEGIN:VTIMEZONE
TZID:Australia/Melbourne
BEGIN:STANDARD
TZOFFSETFROM:+1100
TZOFFSETTO:+1000
TZNAME:AEST
DTSTART:20260404T160000
END:STANDARD
BEGIN:DAYLIGHT
TZOFFSETFROM:+1000
TZOFFSETTO:+1100
TZNAME:AEDT
DTSTART:20261003T160000
END:DAYLIGHT
END:VTIMEZONE
BEGIN:VEVENT
DTSTART;TZID=Australia/Melbourne:20260719T140000
DTEND;TZID=Australia/Melbourne:20260719T170000
DTSTAMP:20260422T053218
CREATED:20251223T063510Z
LAST-MODIFIED:20251223T063510Z
UID:5974-1784469600-1784480400@esshissoc.org.au
SUMMARY:First day of Halls to Picture Palaces: Where We Went for Fun 19 July
DESCRIPTION:
URL:https://esshissoc.org.au/eventscalendar/first-day-of-halls-to-picture-palaces-where-we-went-for-fun-19-july/
LOCATION:Moonee Ponds Court House Museum\, 768 Mt Alexander Road\, Moonee Ponds\, Victoria\, 3039\, Australia
CATEGORIES:Court House Museum
END:VEVENT
BEGIN:VEVENT
DTSTART;TZID=Australia/Melbourne:20260728T193000
DTEND;TZID=Australia/Melbourne:20260728T210000
DTSTAMP:20260422T053218
CREATED:20241217T221359Z
LAST-MODIFIED:20251223T063746Z
UID:4820-1785267000-1785272400@esshissoc.org.au
SUMMARY:July Members Meeting
DESCRIPTION:Launch of Halls to Picture Palaces
URL:https://esshissoc.org.au/eventscalendar/july-members-meeting/
LOCATION:Moonee Ponds Court House Museum\, 768 Mt Alexander Road\, Moonee Ponds\, Victoria\, 3039\, Australia
CATEGORIES:General Meetings
END:VEVENT
END:VCALENDAR