BEGIN:VCALENDAR
VERSION:2.0
PRODID:-//Essendon Historical Society - ECPv6.2.0.1//NONSGML v1.0//EN
CALSCALE:GREGORIAN
METHOD:PUBLISH
X-ORIGINAL-URL:https://esshissoc.org.au
X-WR-CALDESC:Events for Essendon Historical Society
REFRESH-INTERVAL;VALUE=DURATION:PT1H
X-Robots-Tag:noindex
X-PUBLISHED-TTL:PT1H
BEGIN:VTIMEZONE
TZID:Australia/Melbourne
BEGIN:STANDARD
TZOFFSETFROM:+1100
TZOFFSETTO:+1000
TZNAME:AEST
DTSTART:20250405T160000
END:STANDARD
BEGIN:DAYLIGHT
TZOFFSETFROM:+1000
TZOFFSETTO:+1100
TZNAME:AEDT
DTSTART:20251004T160000
END:DAYLIGHT
END:VTIMEZONE
BEGIN:VEVENT
DTSTART;TZID=Australia/Melbourne:20251005T140000
DTEND;TZID=Australia/Melbourne:20251005T160000
DTSTAMP:20260426T020011
CREATED:20250527T002711Z
LAST-MODIFIED:20250908T233529Z
UID:5172-1759672800-1759680000@esshissoc.org.au
SUMMARY:Grand\, Old Moonee Ponds Heritage Walk\, 5 October
DESCRIPTION:Step back in time on this guided heritage walk\, exploring the grand mansions of Essendon and Moonee Ponds with the Essendon Historical Society.\nSunday\, 5 October\, 2025 2.00pm – 4.30pm\nAll 25 Tickets sold
URL:https://esshissoc.org.au/eventscalendar/grand-old-moonee-ponds-heritage-walk/
LOCATION:Victoria
CATEGORIES:Heritage Walk
END:VEVENT
END:VCALENDAR