BEGIN:VCALENDAR
VERSION:2.0
PRODID:-//Essendon Historical Society - ECPv6.2.0.1//NONSGML v1.0//EN
CALSCALE:GREGORIAN
METHOD:PUBLISH
X-WR-CALNAME:Essendon Historical Society
X-ORIGINAL-URL:https://esshissoc.org.au
X-WR-CALDESC:Events for Essendon Historical Society
REFRESH-INTERVAL;VALUE=DURATION:PT1H
X-Robots-Tag:noindex
X-PUBLISHED-TTL:PT1H
BEGIN:VTIMEZONE
TZID:Australia/Melbourne
BEGIN:STANDARD
TZOFFSETFROM:+1100
TZOFFSETTO:+1000
TZNAME:AEST
DTSTART:20240406T160000
END:STANDARD
BEGIN:DAYLIGHT
TZOFFSETFROM:+1000
TZOFFSETTO:+1100
TZNAME:AEDT
DTSTART:20241005T160000
END:DAYLIGHT
BEGIN:STANDARD
TZOFFSETFROM:+1100
TZOFFSETTO:+1000
TZNAME:AEST
DTSTART:20250405T160000
END:STANDARD
BEGIN:DAYLIGHT
TZOFFSETFROM:+1000
TZOFFSETTO:+1100
TZNAME:AEDT
DTSTART:20251004T160000
END:DAYLIGHT
BEGIN:STANDARD
TZOFFSETFROM:+1100
TZOFFSETTO:+1000
TZNAME:AEST
DTSTART:20260404T160000
END:STANDARD
BEGIN:DAYLIGHT
TZOFFSETFROM:+1000
TZOFFSETTO:+1100
TZNAME:AEDT
DTSTART:20261003T160000
END:DAYLIGHT
END:VTIMEZONE
BEGIN:VEVENT
DTSTART;TZID=Australia/Melbourne:20260628T140000
DTEND;TZID=Australia/Melbourne:20260628T170000
DTSTAMP:20260422T085702
CREATED:20250527T001824Z
LAST-MODIFIED:20251223T063228Z
UID:5163-1782655200-1782666000@esshissoc.org.au
SUMMARY:Last day of Planes\, Trains & Automobiles display
DESCRIPTION:
URL:https://esshissoc.org.au/eventscalendar/last-day-of-anything-goes-exhibition/
LOCATION:Moonee Ponds Court House Museum\, 768 Mt Alexander Road\, Moonee Ponds\, Victoria\, 3039\, Australia
ORGANIZER;CN="Essendon%20Historical%20Society":MAILTO:esshissoc@mail.com
END:VEVENT
BEGIN:VEVENT
DTSTART;TZID=Australia/Melbourne:20260623T193000
DTEND;TZID=Australia/Melbourne:20260623T210000
DTSTAMP:20260422T085702
CREATED:20251223T063024Z
LAST-MODIFIED:20251223T063024Z
UID:5970-1782243000-1782248400@esshissoc.org.au
SUMMARY:June Members Meeting
DESCRIPTION:
URL:https://esshissoc.org.au/eventscalendar/june-members-meeting/
LOCATION:Moonee Ponds Court House Museum\, 768 Mt Alexander Road\, Moonee Ponds\, Victoria\, 3039\, Australia
END:VEVENT
BEGIN:VEVENT
DTSTART;TZID=Australia/Melbourne:20260526T193000
DTEND;TZID=Australia/Melbourne:20260526T210000
DTSTAMP:20260422T085702
CREATED:20251223T062733Z
LAST-MODIFIED:20251223T062733Z
UID:5967-1779823800-1779829200@esshissoc.org.au
SUMMARY:May Members Meeting
DESCRIPTION:Guest speaker: J Wren
URL:https://esshissoc.org.au/eventscalendar/may-members-meeting/
LOCATION:Moonee Ponds Court House Museum\, 768 Mt Alexander Road\, Moonee Ponds\, Victoria\, 3039\, Australia
CATEGORIES:General Meetings
END:VEVENT
BEGIN:VEVENT
DTSTART;TZID=Australia/Melbourne:20260428T193000
DTEND;TZID=Australia/Melbourne:20260428T210000
DTSTAMP:20260422T085703
CREATED:20240912T002923Z
LAST-MODIFIED:20251223T062347Z
UID:4607-1777404600-1777410000@esshissoc.org.au
SUMMARY:April Members Meeting
DESCRIPTION:Guest speaker: P Hodge
URL:https://esshissoc.org.au/eventscalendar/members-meeting-5/
LOCATION:Victoria
CATEGORIES:General Meetings
END:VEVENT
BEGIN:VEVENT
DTSTART;TZID=Australia/Melbourne:20260324T193000
DTEND;TZID=Australia/Melbourne:20260324T210000
DTSTAMP:20260422T085703
CREATED:20240912T002627Z
LAST-MODIFIED:20251223T062033Z
UID:4603-1774380600-1774386000@esshissoc.org.au
SUMMARY:March Members Meeting
DESCRIPTION:Guest speaker: Darryn Hartnett
URL:https://esshissoc.org.au/eventscalendar/members-meeting-4/
LOCATION:Moonee Ponds Court House Museum\, 768 Mt Alexander Road\, Moonee Ponds\, Victoria\, 3039\, Australia
CATEGORIES:General Meetings
ORGANIZER;CN="Essendon%20Historical%20Society":MAILTO:esshissoc@mail.com
END:VEVENT
BEGIN:VEVENT
DTSTART;TZID=Australia/Melbourne:20260315T100000
DTEND;TZID=Australia/Melbourne:20260315T170000
DTSTAMP:20260422T085703
CREATED:20251223T061625Z
LAST-MODIFIED:20251223T061717Z
UID:5960-1773568800-1773594000@esshissoc.org.au
SUMMARY:Moonee Valley Festival
DESCRIPTION:
URL:https://esshissoc.org.au/eventscalendar/moonee-valley-festival/
LOCATION:Moonee Ponds Court House Museum\, 768 Mt Alexander Road\, Moonee Ponds\, Victoria\, 3039\, Australia
END:VEVENT
BEGIN:VEVENT
DTSTART;TZID=Australia/Melbourne:20260301T140000
DTEND;TZID=Australia/Melbourne:20260301T163000
DTSTAMP:20260422T085703
CREATED:20240922T002143Z
LAST-MODIFIED:20251223T061213Z
UID:4631-1772373600-1772382600@esshissoc.org.au
SUMMARY:Aberfeldie Heritage Walk
DESCRIPTION:From grand homes to local institutions\, explore the history of Aberfeldie on a guided heritage walk. Adult Price Ticket $25 (EHS members $20). Visitors required to book in advance. Enquires EHS@esshissoc.org.au
URL:https://esshissoc.org.au/eventscalendar/heritage-walk/
LOCATION:Victoria
CATEGORIES:Heritage Walk
ORGANIZER;CN="Essendon%20Historical%20Society":MAILTO:esshissoc@mail.com
END:VEVENT
BEGIN:VEVENT
DTSTART;TZID=Australia/Melbourne:20260224T193000
DTEND;TZID=Australia/Melbourne:20260224T210000
DTSTAMP:20260422T085703
CREATED:20250908T233447Z
LAST-MODIFIED:20250908T233447Z
UID:5315-1771961400-1771966800@esshissoc.org.au
SUMMARY:February Members Meeting with Kath Feehan
DESCRIPTION:Launch of new exhibition with Kath Feehan (Ryans Buses)
URL:https://esshissoc.org.au/eventscalendar/february-members-meeting-with-kath-feehan/
LOCATION:Moonee Ponds Court House Museum\, 768 Mt Alexander Road\, Moonee Ponds\, Victoria\, 3039\, Australia
CATEGORIES:General Meetings
ORGANIZER;CN="Essendon%20Historical%20Society":MAILTO:esshissoc@mail.com
END:VEVENT
BEGIN:VEVENT
DTSTART;TZID=Australia/Melbourne:20260201T140000
DTEND;TZID=Australia/Melbourne:20260201T170000
DTSTAMP:20260422T085703
CREATED:20251223T055721Z
LAST-MODIFIED:20251223T055721Z
UID:5953-1769954400-1769965200@esshissoc.org.au
SUMMARY:First day of Planes\, Trains & Automobiles display
DESCRIPTION:Free exhibition
URL:https://esshissoc.org.au/eventscalendar/first-day-of-planes-trains-automobiles-display/
LOCATION:Moonee Ponds Court House Museum\, 768 Mt Alexander Road\, Moonee Ponds\, Victoria\, 3039\, Australia
END:VEVENT
BEGIN:VEVENT
DTSTART;TZID=Australia/Melbourne:20260201T140000
DTEND;TZID=Australia/Melbourne:20260201T170000
DTSTAMP:20260422T085703
CREATED:20251223T055513Z
LAST-MODIFIED:20251223T055513Z
UID:5948-1769954400-1769965200@esshissoc.org.au
SUMMARY:Court House reopens
DESCRIPTION:
URL:https://esshissoc.org.au/eventscalendar/court-house-reopens-2/
LOCATION:Moonee Ponds Court House Museum\, 768 Mt Alexander Road\, Moonee Ponds\, Victoria\, 3039\, Australia
END:VEVENT
BEGIN:VEVENT
DTSTART;TZID=Australia/Melbourne:20251005T140000
DTEND;TZID=Australia/Melbourne:20251005T160000
DTSTAMP:20260422T085703
CREATED:20250527T002711Z
LAST-MODIFIED:20250908T233529Z
UID:5172-1759672800-1759680000@esshissoc.org.au
SUMMARY:Grand\, Old Moonee Ponds Heritage Walk\, 5 October
DESCRIPTION:Step back in time on this guided heritage walk\, exploring the grand mansions of Essendon and Moonee Ponds with the Essendon Historical Society.\nSunday\, 5 October\, 2025 2.00pm – 4.30pm\nAll 25 Tickets sold
URL:https://esshissoc.org.au/eventscalendar/grand-old-moonee-ponds-heritage-walk/
LOCATION:Victoria
CATEGORIES:Heritage Walk
END:VEVENT
BEGIN:VEVENT
DTSTART;TZID=Australia/Melbourne:20250913T103000
DTEND;TZID=Australia/Melbourne:20250913T153000
DTSTAMP:20260422T085703
CREATED:20250527T002558Z
LAST-MODIFIED:20250527T002558Z
UID:5170-1757759400-1757777400@esshissoc.org.au
SUMMARY:Victorian History Showcase @ PMI
DESCRIPTION:
URL:https://esshissoc.org.au/eventscalendar/victorian-history-showcase-pmi/
LOCATION:Victoria
END:VEVENT
BEGIN:VEVENT
DTSTART;TZID=Australia/Melbourne:20250727T100000
DTEND;TZID=Australia/Melbourne:20250727T170000
DTSTAMP:20260422T085703
CREATED:20250527T002112Z
LAST-MODIFIED:20250527T002112Z
UID:5166-1753610400-1753635600@esshissoc.org.au
SUMMARY:Open House Melbourne
DESCRIPTION:
URL:https://esshissoc.org.au/eventscalendar/open-house-melbourne/
LOCATION:Moonee Ponds Court House Museum\, 768 Mt Alexander Road\, Moonee Ponds\, Victoria\, 3039\, Australia
END:VEVENT
BEGIN:VEVENT
DTSTART;TZID=Australia/Melbourne:20250420T140000
DTEND;TZID=Australia/Melbourne:20250420T170000
DTSTAMP:20260422T085703
CREATED:20240912T002811Z
LAST-MODIFIED:20240912T002811Z
UID:4605-1745157600-1745168400@esshissoc.org.au
SUMMARY:Museum closed on Easter Sunday
DESCRIPTION:
URL:https://esshissoc.org.au/eventscalendar/museum-closed-on-easter-sunday/
LOCATION:Victoria
CATEGORIES:Court House Museum
END:VEVENT
BEGIN:VEVENT
DTSTART;TZID=Australia/Melbourne:20250225T193000
DTEND;TZID=Australia/Melbourne:20250225T210000
DTSTAMP:20260422T085703
CREATED:20240911T050845Z
LAST-MODIFIED:20241217T220125Z
UID:4594-1740511800-1740517200@esshissoc.org.au
SUMMARY:February Members Meeting
DESCRIPTION:General Meeting followed by official opening of Anything Goes\, An Exhibition inspired by the 1920s. The traditional Members Show and Tell will follow.
URL:https://esshissoc.org.au/eventscalendar/members-meeting-3/
LOCATION:Moonee Ponds Court House Museum\, 768 Mt Alexander Road\, Moonee Ponds\, Victoria\, 3039\, Australia
CATEGORIES:General Meetings
ORGANIZER;CN="Essendon%20Historical%20Society":MAILTO:esshissoc@mail.com
END:VEVENT
BEGIN:VEVENT
DTSTART;TZID=Australia/Melbourne:20250222T100000
DTEND;TZID=Australia/Melbourne:20250222T170000
DTSTAMP:20260422T085703
CREATED:20240922T001847Z
LAST-MODIFIED:20240922T001847Z
UID:4627-1740218400-1740243600@esshissoc.org.au
SUMMARY:Museum open for Moonee Valley Festival
DESCRIPTION:
URL:https://esshissoc.org.au/eventscalendar/museum-open-for-moonee-valley-festival/
LOCATION:Moonee Ponds Court House Museum\, 768 Mt Alexander Road\, Moonee Ponds\, Victoria\, 3039\, Australia
ORGANIZER;CN="Essendon%20Historical%20Society":MAILTO:esshissoc@mail.com
END:VEVENT
BEGIN:VEVENT
DTSTART;TZID=Australia/Melbourne:20250202T140000
DTEND;TZID=Australia/Melbourne:20250202T170000
DTSTAMP:20260422T085703
CREATED:20240911T050431Z
LAST-MODIFIED:20240922T001628Z
UID:4592-1738504800-1738515600@esshissoc.org.au
SUMMARY:Court House reopens
DESCRIPTION:Court House reopens in 2025.
URL:https://esshissoc.org.au/eventscalendar/court-house-reopens/
LOCATION:Moonee Ponds Court House Museum\, 768 Mt Alexander Road\, Moonee Ponds\, Victoria\, 3039\, Australia
CATEGORIES:Court House Museum
ATTACH;FMTTYPE=image/jpeg:https://esshissoc.org.au/wp-content/uploads/2024/03/sunday-closing.jpg
ORGANIZER;CN="Essendon%20Historical%20Society":MAILTO:esshissoc@mail.com
END:VEVENT
BEGIN:VEVENT
DTSTART;TZID=Australia/Melbourne:20241222T110000
DTEND;TZID=Australia/Melbourne:20241222T170000
DTSTAMP:20260422T085703
CREATED:20240911T045548Z
LAST-MODIFIED:20241217T215454Z
UID:4587-1734865200-1734886800@esshissoc.org.au
SUMMARY:Court House last day
DESCRIPTION:Court House last day open for 2024.
URL:https://esshissoc.org.au/eventscalendar/court-house-last-day/
LOCATION:Moonee Ponds Court House Museum\, 768 Mt Alexander Road\, Moonee Ponds\, Victoria\, 3039\, Australia
CATEGORIES:Court House Museum
ATTACH;FMTTYPE=image/png:https://esshissoc.org.au/wp-content/uploads/2024/04/court-house-sunny-website.png
ORGANIZER;CN="Essendon%20Historical%20Society":MAILTO:esshissoc@mail.com
END:VEVENT
END:VCALENDAR