BEGIN:VCALENDAR
VERSION:2.0
PRODID:-//Essendon Historical Society - ECPv6.2.0.1//NONSGML v1.0//EN
CALSCALE:GREGORIAN
METHOD:PUBLISH
X-WR-CALNAME:Essendon Historical Society
X-ORIGINAL-URL:https://esshissoc.org.au
X-WR-CALDESC:Events for Essendon Historical Society
REFRESH-INTERVAL;VALUE=DURATION:PT1H
X-Robots-Tag:noindex
X-PUBLISHED-TTL:PT1H
BEGIN:VTIMEZONE
TZID:Australia/Melbourne
BEGIN:STANDARD
TZOFFSETFROM:+1100
TZOFFSETTO:+1000
TZNAME:AEST
DTSTART:20260404T160000
END:STANDARD
BEGIN:DAYLIGHT
TZOFFSETFROM:+1000
TZOFFSETTO:+1100
TZNAME:AEDT
DTSTART:20261003T160000
END:DAYLIGHT
END:VTIMEZONE
BEGIN:VEVENT
DTSTART;TZID=Australia/Melbourne:20260301T140000
DTEND;TZID=Australia/Melbourne:20260301T163000
DTSTAMP:20260425T212828
CREATED:20240922T002143Z
LAST-MODIFIED:20251223T061213Z
UID:4631-1772373600-1772382600@esshissoc.org.au
SUMMARY:Aberfeldie Heritage Walk
DESCRIPTION:From grand homes to local institutions\, explore the history of Aberfeldie on a guided heritage walk. Adult Price Ticket $25 (EHS members $20). Visitors required to book in advance. Enquires EHS@esshissoc.org.au
URL:https://esshissoc.org.au/eventscalendar/heritage-walk/
LOCATION:Victoria
CATEGORIES:Heritage Walk
ORGANIZER;CN="Essendon%20Historical%20Society":MAILTO:esshissoc@mail.com
END:VEVENT
END:VCALENDAR