BEGIN:VCALENDAR
VERSION:2.0
PRODID:-//Essendon Historical Society - ECPv6.2.0.1//NONSGML v1.0//EN
CALSCALE:GREGORIAN
METHOD:PUBLISH
X-ORIGINAL-URL:https://esshissoc.org.au
X-WR-CALDESC:Events for Essendon Historical Society
REFRESH-INTERVAL;VALUE=DURATION:PT1H
X-Robots-Tag:noindex
X-PUBLISHED-TTL:PT1H
BEGIN:VTIMEZONE
TZID:Australia/Melbourne
BEGIN:STANDARD
TZOFFSETFROM:+1100
TZOFFSETTO:+1000
TZNAME:AEST
DTSTART:20260404T160000
END:STANDARD
BEGIN:DAYLIGHT
TZOFFSETFROM:+1000
TZOFFSETTO:+1100
TZNAME:AEDT
DTSTART:20261003T160000
END:DAYLIGHT
END:VTIMEZONE
BEGIN:VEVENT
DTSTART;TZID=Australia/Melbourne:20260201T140000
DTEND;TZID=Australia/Melbourne:20260201T170000
DTSTAMP:20260425T213008
CREATED:20251223T055513Z
LAST-MODIFIED:20251223T055513Z
UID:5948-1769954400-1769965200@esshissoc.org.au
SUMMARY:Court House reopens
DESCRIPTION:
URL:https://esshissoc.org.au/eventscalendar/court-house-reopens-2/
LOCATION:Moonee Ponds Court House Museum\, 768 Mt Alexander Road\, Moonee Ponds\, Victoria\, 3039\, Australia
END:VEVENT
BEGIN:VEVENT
DTSTART;TZID=Australia/Melbourne:20260201T140000
DTEND;TZID=Australia/Melbourne:20260201T170000
DTSTAMP:20260425T213008
CREATED:20251223T055721Z
LAST-MODIFIED:20251223T055721Z
UID:5953-1769954400-1769965200@esshissoc.org.au
SUMMARY:First day of Planes\, Trains & Automobiles display
DESCRIPTION:Free exhibition
URL:https://esshissoc.org.au/eventscalendar/first-day-of-planes-trains-automobiles-display/
LOCATION:Moonee Ponds Court House Museum\, 768 Mt Alexander Road\, Moonee Ponds\, Victoria\, 3039\, Australia
END:VEVENT
END:VCALENDAR